BEGIN:VCALENDAR
VERSION:2.0
PRODID:-//81.169.145.159//NONSGML kigkonsult.se iCalcreator 2.20//
CALSCALE:GREGORIAN
METHOD:PUBLISH
X-WR-TIMEZONE:Europe/Berlin
BEGIN:VEVENT
UID:event98@Paulus-Chor Stuttgart
DTSTAMP:20260420T015226Z
CATEGORIES:Probe
DESCRIPTION:Verdi-Probe\nKategorie: Probe\nICS-Link: https://www.pauluschor
 .de/index.php?option=com_jem&view=event&id=98:Probe\n
DTSTART;TZID=Europe/Berlin:20100624T190000
DTEND;TZID=Europe/Berlin:20100624T220000
LOCATION:Pauluskirche Stuttgart\,Paulusstr. 1\,70197 Stuttgart
SUMMARY:Verdi-Probe
URL:https://www.pauluschor.de/index.php?option=com_jem&view=event&id=98:Pro
 be
END:VEVENT
END:VCALENDAR