BEGIN:VCALENDAR
VERSION:2.0
PRODID:-//81.169.145.159//NONSGML kigkonsult.se iCalcreator 2.20//
CALSCALE:GREGORIAN
METHOD:PUBLISH
X-WR-TIMEZONE:Europe/Berlin
BEGIN:VEVENT
UID:event7@Paulus-Chor Stuttgart
DTSTAMP:20260422T044507Z
CATEGORIES:Singen im Gottesdienst
DESCRIPTION:Mendelssohn Bartholdy: Motetten\nKategorie: Singen im Gottesdie
 nst\nICS-Link: https://www.pauluschor.de/index.php?option=com_jem&view=eve
 nt&id=7:Mendelssohn\n
DTSTART;TZID=Europe/Berlin:20090329T100000
DTEND;TZID=Europe/Berlin:20090329T110000
LOCATION:Pauluskirche Stuttgart\,Paulusstr. 1\,70197 Stuttgart
SUMMARY:Mendelssohn Bartholdy: Motetten
URL:https://www.pauluschor.de/index.php?option=com_jem&view=event&id=7:Mend
 elssohn
END:VEVENT
END:VCALENDAR