BEGIN:VCALENDAR
VERSION:2.0
PRODID:-//81.169.145.159//NONSGML kigkonsult.se iCalcreator 2.20//
CALSCALE:GREGORIAN
METHOD:PUBLISH
X-WR-TIMEZONE:Europe/Berlin
BEGIN:VEVENT
UID:event6@Paulus-Chor Stuttgart
DTSTAMP:20260420T235604Z
CATEGORIES:Konzert
DESCRIPTION:Bach: Johannes-Passion\nKategorie: Konzert\nICS-Link: https://w
 ww.pauluschor.de/index.php?option=com_jem&view=event&id=6:Bach\n
DTSTART;TZID=Europe/Berlin:20090314T190000
DTEND;TZID=Europe/Berlin:20090314T220000
LOCATION:Pauluskirche Stuttgart\,Paulusstr. 1\,70197 Stuttgart
SUMMARY:Bach: Johannes-Passion
URL:https://www.pauluschor.de/index.php?option=com_jem&view=event&id=6:Bach
END:VEVENT
END:VCALENDAR