BEGIN:VCALENDAR
VERSION:2.0
PRODID:-//81.169.145.159//NONSGML kigkonsult.se iCalcreator 2.20//
CALSCALE:GREGORIAN
METHOD:PUBLISH
X-WR-TIMEZONE:Europe/Berlin
BEGIN:VEVENT
UID:event63@Paulus-Chor Stuttgart
DTSTAMP:20260420T100933Z
CATEGORIES:Singen im Gottesdienst
DESCRIPTION:Adventsmusik des Frühbarock\nKategorie: Singen im Gottesdienst
 \nICS-Link: https://www.pauluschor.de/index.php?option=com_jem&view=event&
 id=63:Schein\n
DTSTART;TZID=Europe/Berlin:20091213T100000
DTEND;TZID=Europe/Berlin:20091213T110000
LOCATION:Pauluskirche Stuttgart\,Paulusstr. 1\,70197 Stuttgart
SUMMARY:Adventsmusik des Frühbarock
URL:https://www.pauluschor.de/index.php?option=com_jem&view=event&id=63:Sch
 ein
END:VEVENT
END:VCALENDAR