BEGIN:VCALENDAR
VERSION:2.0
PRODID:-//81.169.145.159//NONSGML kigkonsult.se iCalcreator 2.20//
CALSCALE:GREGORIAN
METHOD:PUBLISH
X-WR-TIMEZONE:Europe/Berlin
BEGIN:VEVENT
UID:event485@Paulus-Chor Stuttgart
DTSTAMP:20260422T065018Z
CATEGORIES:Singen im Gottesdienst
DESCRIPTION:Mache dich auf\, werde Licht\nKategorie: Singen im Gottesdienst
 \nICS-Link: https://www.pauluschor.de/index.php?option=com_jem&view=event&
 id=485:adventsmusik\n
DTSTART;TZID=Europe/Berlin:20161204T190000
DTEND;TZID=Europe/Berlin:20161204T200000
LOCATION:Pauluskirche Stuttgart\,Paulusstr. 1\,70197 Stuttgart
SUMMARY:Mache dich auf\, werde Licht
URL:https://www.pauluschor.de/index.php?option=com_jem&view=event&id=485:ad
 ventsmusik
END:VEVENT
END:VCALENDAR