BEGIN:VCALENDAR
VERSION:2.0
PRODID:-//81.169.145.159//NONSGML kigkonsult.se iCalcreator 2.20//
CALSCALE:GREGORIAN
METHOD:PUBLISH
X-WR-TIMEZONE:Europe/Berlin
BEGIN:VEVENT
UID:event334@Paulus-Chor Stuttgart
DTSTAMP:20260422T173520Z
CATEGORIES:Probe
DESCRIPTION:Intensivprobe Haydn\nKategorie: Probe\nICS-Link: https://www.pa
 uluschor.de/index.php?option=com_jem&view=event&id=334:Probe\n
DTSTART;TZID=Europe/Berlin:20130615T163000
DTEND;TZID=Europe/Berlin:20130615T213000
LOCATION:Theodor-Traub-Saal\,Paulusstr. 1\,70197 Stuttgart
SUMMARY:Intensivprobe Haydn
URL:https://www.pauluschor.de/index.php?option=com_jem&view=event&id=334:Pr
 obe
END:VEVENT
END:VCALENDAR