BEGIN:VCALENDAR
VERSION:2.0
PRODID:-//81.169.145.159//NONSGML kigkonsult.se iCalcreator 2.20//
CALSCALE:GREGORIAN
METHOD:PUBLISH
X-WR-TIMEZONE:Europe/Berlin
BEGIN:VEVENT
UID:event2@Paulus-Chor Stuttgart
DTSTAMP:20260420T183145Z
CATEGORIES:Singen im Gottesdienst
DESCRIPTION:Schütz: Herr auf dich traue ich\nKategorie: Singen im Gottesdie
 nst\nICS-Link: https://www.pauluschor.de/index.php?option=com_jem&view=eve
 nt&id=2:Schütz\n
DTSTART;TZID=Europe/Berlin:20090208T100000
DTEND;TZID=Europe/Berlin:20090208T110000
LOCATION:Pauluskirche Stuttgart\,Paulusstr. 1\,70197 Stuttgart
SUMMARY:Schütz: Herr auf dich traue ich
END:VEVENT
END:VCALENDAR