BEGIN:VCALENDAR
VERSION:2.0
PRODID:-//81.169.145.159//NONSGML kigkonsult.se iCalcreator 2.20//
CALSCALE:GREGORIAN
METHOD:PUBLISH
X-WR-TIMEZONE:Europe/Berlin
BEGIN:VEVENT
UID:event252@Paulus-Chor Stuttgart
DTSTAMP:20260421T184849Z
CATEGORIES:Chorfreizeit
DESCRIPTION:Chorfreizeit in Rot an der Rot\nKategorie: Chorfreizeit\nICS-Li
 nk: https://www.pauluschor.de/index.php?option=com_jem&view=event&id=252:C
 horfreizeit\n
DTSTART;TZID=Europe/Berlin:20120914T180000
DTEND;TZID=Europe/Berlin:20120916T140000
LOCATION:Jugendhaus St. Norbert in Rot an der Rot\,Klosterhof 9\,88430 Rot 
 an der Rot
SUMMARY:Chorfreizeit in Rot an der Rot
URL:https://www.pauluschor.de/index.php?option=com_jem&view=event&id=252:Ch
 orfreizeit
END:VEVENT
END:VCALENDAR