BEGIN:VCALENDAR
VERSION:2.0
PRODID:-//81.169.145.159//NONSGML kigkonsult.se iCalcreator 2.20//
CALSCALE:GREGORIAN
METHOD:PUBLISH
X-WR-TIMEZONE:Europe/Berlin
BEGIN:VEVENT
UID:event227@Paulus-Chor Stuttgart
DTSTAMP:20260421T042447Z
CATEGORIES:Probe
DESCRIPTION:Hauptprobe\nKategorie: Probe\nICS-Link: https://www.pauluschor.
 de/index.php?option=com_jem&view=event&id=227:Hauptprobe\n
DTSTART;TZID=Europe/Berlin:20120403T194500
DTEND;TZID=Europe/Berlin:20120403T223000
LOCATION:Pauluskirche Stuttgart\,Paulusstr. 1\,70197 Stuttgart
SUMMARY:Hauptprobe
URL:https://www.pauluschor.de/index.php?option=com_jem&view=event&id=227:Ha
 uptprobe
END:VEVENT
END:VCALENDAR