BEGIN:VCALENDAR
VERSION:2.0
PRODID:-//81.169.145.159//NONSGML kigkonsult.se iCalcreator 2.20//
CALSCALE:GREGORIAN
METHOD:PUBLISH
X-WR-TIMEZONE:Europe/Berlin
BEGIN:VEVENT
UID:event189@Paulus-Chor Stuttgart
DTSTAMP:20260421T113716Z
CATEGORIES:Konzert
DESCRIPTION:Mendelssohn Bartholdy: Elias\nKategorie: Konzert\nICS-Link: htt
 ps://www.pauluschor.de/index.php?option=com_jem&view=event&id=189:Mendelss
 ohn Bartholdy: Elias\n
DTSTART;TZID=Europe/Berlin:20110925T190000
DTEND;TZID=Europe/Berlin:20110925T210000
LOCATION:Pauluskirche Stuttgart\,Paulusstr. 1\,70197 Stuttgart
SUMMARY:Mendelssohn Bartholdy: Elias
END:VEVENT
END:VCALENDAR