BEGIN:VCALENDAR
VERSION:2.0
PRODID:-//81.169.145.159//NONSGML kigkonsult.se iCalcreator 2.20//
CALSCALE:GREGORIAN
METHOD:PUBLISH
X-WR-TIMEZONE:Europe/Berlin
BEGIN:VEVENT
UID:event129@Paulus-Chor Stuttgart
DTSTAMP:20260420T200659Z
CATEGORIES:Konzert
DESCRIPTION:Credo-Messe\nKategorie: Konzert\nICS-Link: https://www.paulusch
 or.de/index.php?option=com_jem&view=event&id=129:Mozart\n
DTSTART;TZID=Europe/Berlin:20101224T223000
DTEND;TZID=Europe/Berlin:20101224T233000
LOCATION:Pauluskirche Stuttgart\,Paulusstr. 1\,70197 Stuttgart
SUMMARY:Credo-Messe
URL:https://www.pauluschor.de/index.php?option=com_jem&view=event&id=129:Mo
 zart
END:VEVENT
END:VCALENDAR