BEGIN:VCALENDAR
VERSION:2.0
PRODID:-//81.169.145.159//NONSGML kigkonsult.se iCalcreator 2.20//
CALSCALE:GREGORIAN
METHOD:PUBLISH
X-WR-TIMEZONE:Europe/Berlin
BEGIN:VEVENT
UID:event1112@Paulus-Chor Stuttgart
DTSTAMP:20260420T200822Z
CATEGORIES:Probe
DESCRIPTION:Anspielprobe\nKategorie: Probe\nICS-Link: https://www.pauluscho
 r.de/index.php?option=com_jem&view=event&id=1112:anspielprobe\n
DTSTART;TZID=Europe/Berlin:20241224T210000
DTEND;TZID=Europe/Berlin:20241224T221500
LOCATION:Pauluskirche Stuttgart\,Paulusstr. 1\,70197 Stuttgart
SUMMARY:Anspielprobe
URL:https://www.pauluschor.de/index.php?option=com_jem&view=event&id=1112:a
 nspielprobe
END:VEVENT
END:VCALENDAR