BEGIN:VCALENDAR
VERSION:2.0
PRODID:-//81.169.145.159//NONSGML kigkonsult.se iCalcreator 2.20//
CALSCALE:GREGORIAN
METHOD:PUBLISH
X-WR-TIMEZONE:Europe/Berlin
BEGIN:VEVENT
UID:event1091@Paulus-Chor Stuttgart
DTSTAMP:20260420T182957Z
CATEGORIES:Chorfreizeit
DESCRIPTION:Probenwochenende\nKategorie: Chorfreizeit\nICS-Link: https://ww
 w.pauluschor.de/index.php?option=com_jem&view=event&id=1091:probenwochenen
 de\n
DTSTART;TZID=Europe/Berlin:20240927T194500
DTEND;TZID=Europe/Berlin:20240929T130000
LOCATION:Theodor-Traub-Saal\,Paulusstr. 1\,70197 Stuttgart
SUMMARY:Probenwochenende
URL:https://www.pauluschor.de/index.php?option=com_jem&view=event&id=1091:p
 robenwochenende
END:VEVENT
END:VCALENDAR