BEGIN:VCALENDAR
VERSION:2.0
PRODID:-//81.169.145.159//NONSGML kigkonsult.se iCalcreator 2.20//
CALSCALE:GREGORIAN
METHOD:PUBLISH
X-WR-TIMEZONE:Europe/Berlin
BEGIN:VEVENT
UID:event1089@Paulus-Chor Stuttgart
DTSTAMP:20260423T095443Z
CATEGORIES:Singen im Gottesdienst
DESCRIPTION:Singen im Gottesdienst\nKategorie: Singen im Gottesdienst\nICS-
 Link: https://www.pauluschor.de/index.php?option=com_jem&view=event&id=108
 9:singen-im-gottesdienst\n
DTSTART;TZID=Europe/Berlin:20240721T100000
DTEND;TZID=Europe/Berlin:20240721T100000
LOCATION:Stiftskirche Stuttgart\,Stiftsstraße 12\,70173 Stuttgart
SUMMARY:Singen im Gottesdienst
URL:https://www.pauluschor.de/index.php?option=com_jem&view=event&id=1089:s
 ingen-im-gottesdienst
END:VEVENT
END:VCALENDAR