BEGIN:VCALENDAR
VERSION:2.0
PRODID:-//81.169.145.159//NONSGML kigkonsult.se iCalcreator 2.20//
CALSCALE:GREGORIAN
METHOD:PUBLISH
X-WR-TIMEZONE:Europe/Berlin
BEGIN:VEVENT
UID:event726@Paulus-Chor Stuttgart
DTSTAMP:20260420T193832Z
CATEGORIES:Konzert
DESCRIPTION:Jazz and more\nKategorie: Konzert\nICS-Link: https://www.paulus
 chor.de/index.php?option=com_jem&view=event&id=726:jazzmass\n
DTSTART;TZID=Europe/Berlin:20200621T190000
DTEND;TZID=Europe/Berlin:20200621T190000
LOCATION:Pauluskirche Stuttgart\,Paulusstr. 1\,70197 Stuttgart
SUMMARY:Jazz and more
URL:https://www.pauluschor.de/index.php?option=com_jem&view=event&id=726:ja
 zzmass
END:VEVENT
END:VCALENDAR