BEGIN:VCALENDAR
VERSION:2.0
PRODID:-//81.169.145.159//NONSGML kigkonsult.se iCalcreator 2.20//
CALSCALE:GREGORIAN
METHOD:PUBLISH
X-WR-TIMEZONE:Europe/Berlin
BEGIN:VEVENT
UID:event653@Paulus-Chor Stuttgart
DTSTAMP:20260420T101014Z
CATEGORIES:Konzert
DESCRIPTION:Oratorisches Konzert\nKategorie: Konzert\nICS-Link: https://www
 .pauluschor.de/index.php?option=com_jem&view=event&id=653:oratorischeskonz
 ert\n
DTSTART;TZID=Europe/Berlin:20191109T190000
DTEND;TZID=Europe/Berlin:20191109T210000
LOCATION:Gaisburger Kirche\,Faberstr. 16\,70188 Stuttgart
SUMMARY:Oratorisches Konzert
URL:https://www.pauluschor.de/index.php?option=com_jem&view=event&id=653:or
 atorischeskonzert
END:VEVENT
END:VCALENDAR