BEGIN:VCALENDAR
VERSION:2.0
PRODID:-//81.169.145.159//NONSGML kigkonsult.se iCalcreator 2.20//
CALSCALE:GREGORIAN
METHOD:PUBLISH
X-WR-TIMEZONE:Europe/Berlin
BEGIN:VEVENT
UID:event501@Paulus-Chor Stuttgart
DTSTAMP:20260420T112829Z
CATEGORIES:Konzert
DESCRIPTION:Rossini: Petite Messe solennelle\nKategorie: Konzert\nICS-Link:
  https://www.pauluschor.de/index.php?option=com_jem&view=event&id=501:ross
 ini-messe\n
DTSTART;TZID=Europe/Berlin:20170702T190000
DTEND;TZID=Europe/Berlin:20170702T210000
LOCATION:Pauluskirche Stuttgart\,Paulusstr. 1\,70197 Stuttgart
SUMMARY:Rossini: Petite Messe solennelle
URL:https://www.pauluschor.de/index.php?option=com_jem&view=event&id=501:ro
 ssini-messe
END:VEVENT
END:VCALENDAR