BEGIN:VCALENDAR
VERSION:2.0
PRODID:-//81.169.145.159//NONSGML kigkonsult.se iCalcreator 2.20//
CALSCALE:GREGORIAN
METHOD:PUBLISH
X-WR-TIMEZONE:Europe/Berlin
BEGIN:VEVENT
UID:event500@Paulus-Chor Stuttgart
DTSTAMP:20260425T212140Z
CATEGORIES:Konzert
DESCRIPTION:Rossini: Petite Messe solennelle\nKategorie: Konzert\nICS-Link:
  https://www.pauluschor.de/index.php?option=com_jem&view=event&id=500:ross
 ini-messe\n
DTSTART;TZID=Europe/Berlin:20170701T190000
DTEND;TZID=Europe/Berlin:20170701T210000
LOCATION:Gaisburger Kirche\,Faberstr. 16\,70188 Stuttgart
SUMMARY:Rossini: Petite Messe solennelle
URL:https://www.pauluschor.de/index.php?option=com_jem&view=event&id=500:ro
 ssini-messe
END:VEVENT
END:VCALENDAR