BEGIN:VCALENDAR
VERSION:2.0
PRODID:-//81.169.145.159//NONSGML kigkonsult.se iCalcreator 2.20//
CALSCALE:GREGORIAN
METHOD:PUBLISH
X-WR-TIMEZONE:Europe/Berlin
BEGIN:VEVENT
UID:event320@Paulus-Chor Stuttgart
DTSTAMP:20260422T010012Z
CATEGORIES:Probe
DESCRIPTION:Generalprobe Haydn\nKategorie: Probe\nICS-Link: https://www.pau
 luschor.de/index.php?option=com_jem&view=event&id=320:Generalprobe\n
DTSTART;TZID=Europe/Berlin:20131017T193000
DTEND;TZID=Europe/Berlin:20131017T220000
LOCATION:Gaisburger Kirche\,Faberstr. 16\,70188 Stuttgart
SUMMARY:Generalprobe Haydn
URL:https://www.pauluschor.de/index.php?option=com_jem&view=event&id=320:Ge
 neralprobe
END:VEVENT
END:VCALENDAR