BEGIN:VCALENDAR
VERSION:2.0
PRODID:-//81.169.145.159//NONSGML kigkonsult.se iCalcreator 2.20//
CALSCALE:GREGORIAN
METHOD:PUBLISH
X-WR-TIMEZONE:Europe/Berlin
BEGIN:VEVENT
UID:event268@Paulus-Chor Stuttgart
DTSTAMP:20260425T233732Z
CATEGORIES:Konzert
DESCRIPTION:Dvoràk: Stabat mater\nKategorie: Konzert\nICS-Link: https://www
 .pauluschor.de/index.php?option=com_jem&view=event&id=268:Dvoràk: Stabat m
 ater\n
DTSTART;TZID=Europe/Berlin:20121118T190000
DTEND;TZID=Europe/Berlin:20121118T220000
LOCATION:Pauluskirche Stuttgart\,Paulusstr. 1\,70197 Stuttgart
SUMMARY:Dvoràk: Stabat mater
END:VEVENT
END:VCALENDAR