BEGIN:VCALENDAR
VERSION:2.0
PRODID:-//81.169.145.159//NONSGML kigkonsult.se iCalcreator 2.20//
CALSCALE:GREGORIAN
METHOD:PUBLISH
X-WR-TIMEZONE:Europe/Berlin
BEGIN:VEVENT
UID:event232@Paulus-Chor Stuttgart
DTSTAMP:20260420T141147Z
CATEGORIES:Konzert
DESCRIPTION:Keiser: Markuspassion\nKategorie: Konzert\nICS-Link: https://ww
 w.pauluschor.de/index.php?option=com_jem&view=event&id=232:Keiser: Markusp
 assion\n
DTSTART;TZID=Europe/Berlin:20120406T180000
DTEND;TZID=Europe/Berlin:20120406T200000
LOCATION:Pauluskirche Stuttgart\,Paulusstr. 1\,70197 Stuttgart
SUMMARY:Keiser: Markuspassion
END:VEVENT
END:VCALENDAR