BEGIN:VCALENDAR
VERSION:2.0
PRODID:-//81.169.145.159//NONSGML kigkonsult.se iCalcreator 2.20//
CALSCALE:GREGORIAN
METHOD:PUBLISH
X-WR-TIMEZONE:Europe/Berlin
BEGIN:VEVENT
UID:event145@Paulus-Chor Stuttgart
DTSTAMP:20260420T235550Z
CATEGORIES:Konzert
DESCRIPTION:Neujahrskonzert\nKategorie: Konzert\nICS-Link: https://www.paul
 uschor.de/index.php?option=com_jem&view=event&id=145:Neujahrskonzert\n
DTSTART;TZID=Europe/Berlin:20110116T180000
DTEND;TZID=Europe/Berlin:20110116T200000
LOCATION:Pauluskirche Stuttgart\,Paulusstr. 1\,70197 Stuttgart
SUMMARY:Neujahrskonzert
URL:https://www.pauluschor.de/index.php?option=com_jem&view=event&id=145:Ne
 ujahrskonzert
END:VEVENT
END:VCALENDAR