BEGIN:VCALENDAR
VERSION:2.0
PRODID:-//81.169.145.159//NONSGML kigkonsult.se iCalcreator 2.20//
CALSCALE:GREGORIAN
METHOD:PUBLISH
X-WR-TIMEZONE:Europe/Berlin
BEGIN:VEVENT
UID:event12@Paulus-Chor Stuttgart
DTSTAMP:20260421T072050Z
CATEGORIES:Konzert
DESCRIPTION:Johannes Brahms: Ein Deutsches Requiem\nKategorie: Konzert\nICS
 -Link: https://www.pauluschor.de/index.php?option=com_jem&view=event&id=12
 :Brahms-Requiem\n
DTSTART;TZID=Europe/Berlin:20090726T200000
DTEND;TZID=Europe/Berlin:20090726T220000
LOCATION:Stephanuskirche Weilimdorf\,Giebelstr. 28\,70499 Stuttgart
SUMMARY:Johannes Brahms: Ein Deutsches Requiem
URL:https://www.pauluschor.de/index.php?option=com_jem&view=event&id=12:Bra
 hms-Requiem
END:VEVENT
END:VCALENDAR