BEGIN:VCALENDAR
VERSION:2.0
PRODID:-//81.169.145.159//NONSGML kigkonsult.se iCalcreator 2.20//
CALSCALE:GREGORIAN
METHOD:PUBLISH
X-WR-TIMEZONE:Europe/Berlin
BEGIN:VEVENT
UID:event102@Paulus-Chor Stuttgart
DTSTAMP:20260422T093344Z
CATEGORIES:Probe
DESCRIPTION:Generalprobe\nKategorie: Probe\nICS-Link: https://www.pauluscho
 r.de/index.php?option=com_jem&view=event&id=102:Generalprobe\n
DTSTART;TZID=Europe/Berlin:20100702T170000
DTEND;TZID=Europe/Berlin:20100702T193000
LOCATION:Liederhalle\, Beethovensaal\,Berliner Platz 1-3\,70174 Stuttgart
SUMMARY:Generalprobe
URL:https://www.pauluschor.de/index.php?option=com_jem&view=event&id=102:Ge
 neralprobe
END:VEVENT
END:VCALENDAR